BEGIN:VCALENDAR
VERSION:2.0
PRODID:-//Drupal iCal API//EN
X-WR-CALNAME:Calendar of Events
X-WR-TIMEZONE:America/Chicago
BEGIN:VTIMEZONE
TZID:America/Chicago
X-LIC-LOCATION:America/Chicago
BEGIN:DAYLIGHT
TZNAME:CDT
TZOFFSETFROM:-0600
TZOFFSETTO:-0500
DTSTART:20260308T080000
END:DAYLIGHT
BEGIN:STANDARD
TZNAME:CST
TZOFFSETFROM:-0500
TZOFFSETTO:-0600
DTSTART:20251102T070000
END:STANDARD
END:VTIMEZONE
BEGIN:VEVENT
UID:4450c3f1-6fea-4d14-b329-520642973996
DTSTART;TZID=America/Chicago:20260430T170000
SEQUENCE:0
TRANSP:TRANSPARENT
DTEND;TZID=America/Chicago:20260430T190000
SUMMARY:Casey Cultural Fair
CLASS:PUBLIC
DESCRIPTION:Body \n\nJOIN US FOR THE CASEY ELEMENTARY CULTURAL FAIR![IM
 AGE REMOVED.]\n\nJOIN US APRIL 30TH FROM 5:00 PM TO 7:00 PM TO CELEBRATE
  OUR\nCOMMUNITY’S RICH DIVERSITY!\n\nHOW CAN YOU PARTICIPATE? WHETHER Y
 OU ARE SHARING YOUR OWN HERITAGE OR\nEXPLORING A NEW ONE\, WE WANT YOU TO 
 BE PART OF THE MAGIC!\n\n*\nTASTE OF THE WORLD: COOK AND SHARE A FAVORITE 
 DISH FROM YOUR CULTURE\nOR NATIVE COUNTRY.\n\n *\nHANDS-ON HERITAGE: TEACH
  STUDENTS A TRADITIONAL GAME\, CRAFT\, OR SKILL.\n\n *\nCENTER STAGE: PERF
 ORM A CULTURAL DANCE\, SONG\, OR TRADITIONAL SHOWCASE.\n\n *\nDISCOVERY BO
 ARDS: CREATE A TRIFOLD DISPLAY PACKED WITH FACTS\, PHOTOS\,\nAND TRADITION
 S FROM A COUNTRY OR STATE.\n\nSIGN-UP TO SHOWCASE- TO HELP US PLAN\, PLEAS
 E LET US KNOW HOW YOU'D\nLIKE TO CONTRIBUTE BY APRIL 17TH EITHER BY COMPLE
 TING AND RETURNING\nTHE PAPER FORM THAT WILL BE SENT HOME WITH YOUR CHILD 
 AND ATTACHED\nHERE: CASEY CULTURAL FAIR REGISTRATION FORM\n[https://url
 defense.com/v3/__https://u345601.ct.sendgrid.net/ls/click?upn=u001.1vgusgF
 lXDIstRlEntBWD9lBRGHCt-2FZoDuHP5poxhWc9XV-2B6pyfCt0p-2FN29-2FD-2FaXLZHYyIl
 M5IVR66RFuhOGuZ5gbYdeBwybijf-2BuE7NOzv2udKLXDOE2NdKUJcz7wnlikblm6c4ZZI9W-2
 F0OZkg-2BuZlHxZ972b87AGlWRO-2FzERyp8rTEmgVkQjPqm1JB1A9SM6P07TeiQSWGUjrjvGd
 SiA-3D-3Ds6Rs_3HnSy7Thd-2B4TzjPSA5oX7rLDpNBUTeviprZdoH4DI4CYhPgDzX8hptWXzX
 NZ6cZJzM1N-2FfaRyfCTqNNXpLFAygeHc2ZlGzHRSka9Y9o6ygBGDBYfCaD0PqGjTGTHx8V-2F
 IFgqsFPA6SbduTZjVaCyj4Ee2XOskXA-2FcSuefLkNNaiC0bj8blFA-2FTiYN-2F9zTcjT92z7
 NOTe0ALfpEWFWm-2BweLfTqZygjYawmUvw8-2Bo1uG3pERdQW1ey8qK-2BQqnMqAxFbtUfv77f
 MIEg3hOtKf7bhs6B515x65EI0dLrFB2-2F8UQi5Fxe75iYRa9bTJHk-2BRD5__\;!!GqTTTqG3
 Xmpk!9HfHY14--Gjz5T_suWG01ETjtSrToz-hOatcMKBi6Nj5nIT0b8Cu90scMJYyT6CVEkff4
 KyDXbPxpG0VHbGu5LDzr7NwabIso8za0w$]\,\n\nOR BY COMPLETING THE ONLINE FORM:
  CASEY CULTURAL FAIR ONLINE\nREGISTRATION FORM\n[https://urldefense.co
 m/v3/__https://u345601.ct.sendgrid.net/ls/click?upn=u001.-2FC-2FcQyyLAX8vp
 YKitzCkwq92EOIKS8NV6ButoFVs7tnozU0zqJcSP-2FKLqymO-2BfItDeWI_3HnSy7Thd-2B4T
 zjPSA5oX7rLDpNBUTeviprZdoH4DI4CYhPgDzX8hptWXzXNZ6cZJzM1N-2FfaRyfCTqNNXpLFA
 ygeHc2ZlGzHRSka9Y9o6ygBGDBYfCaD0PqGjTGTHx8V-2FIFgqsFPA6SbduTZjVaCyj4Ee2XOs
 kXA-2FcSuefLkNNag4pLMkMhQte7MM5h7npjeLKOagQT9G9CLGhgQcfZruAg4kpGPTpZozEwzt
 LKD0PIEDBldmoxH6b502aiM7YDuxD8hxb0ycwaO10kNw59-2F-2FjXzkloF9YaPgXVmfSOGkag
 0rLat-2F7yjr4xxGZu7eXTc-2B__\;!!GqTTTqG3Xmpk!9HfHY14--Gjz5T_suWG01ETjtSrTo
 z-hOatcMKBi6Nj5nIT0b8Cu90scMJYyT6CVEkff4KyDXbPxpG0VHbGu5LDzr7NwabKlTN39HA$
 ] \n[https://urldefense.com/v3/__https://u345601.ct.sendgrid.net/ls/click
 ?upn=u001.-2FC-2FcQyyLAX8vpYKitzCkwq92EOIKS8NV6ButoFVs7tnozU0zqJcSP-2FKLqy
 mO-2BfItG6CX_3HnSy7Thd-2B4TzjPSA5oX7rLDpNBUTeviprZdoH4DI4CYhPgDzX8hptWXzXN
 Z6cZJzM1N-2FfaRyfCTqNNXpLFAygeHc2ZlGzHRSka9Y9o6ygBGDBYfCaD0PqGjTGTHx8V-2FI
 FgqsFPA6SbduTZjVaCyj4Ee2XOskXA-2FcSuefLkNNah6WKBnZWGjlxy97CvsrbVhcd2gIqI5m
 O4Da2pN5ae39Z0fxaNXT7WF7-2Ff7HCBJPjOOEkVjAOd1LjGwZZ-2BskiQvWPPrFs9hmAabOXE
 2fbg8jqaCC8VvKobHy73IBADhZrG1WgTT8DPIeDahGdejLape__\;!!GqTTTqG3Xmpk!9HfHY1
 4--Gjz5T_suWG01ETjtSrToz-hOatcMKBi6Nj5nIT0b8Cu90scMJYyT6CVEkff4KyDXbPxpG0V
 HbGu5LDzr7NwabJxMuQSWQ$]HTTPS://FORMS.GLE/74JM9BXASEAAJ5DY6\n[https://urld
 efense.com/v3/__https://u345601.ct.sendgrid.net/ls/click?upn=u001.-2FC-2Fc
 QyyLAX8vpYKitzCkwuCwSaavSlCbN4nlbRE9esFot6wewRG5BmhGPmaD33laC2ar_3HnSy7Thd
 -2B4TzjPSA5oX7rLDpNBUTeviprZdoH4DI4CYhPgDzX8hptWXzXNZ6cZJzM1N-2FfaRyfCTqNN
 XpLFAygeHc2ZlGzHRSka9Y9o6ygBGDBYfCaD0PqGjTGTHx8V-2FIFgqsFPA6SbduTZjVaCyj4E
 e2XOskXA-2FcSuefLkNNai2XQmEh74XKMroK805C-2B5ByYi1bJme9dp5VK8381beLpOoMnbHm
 jlZ8PdhIKcKhZMzXLddeFpuXuBXpL6GqE1YYiHyMn-2F-2Bztz2LkPXKmegFQIvlRrocCyBsy2
 UiXQlvuVu7OrR5ro2snhWlwZhmEQE__\;!!GqTTTqG3Xmpk!9HfHY14--Gjz5T_suWG01ETjtS
 rToz-hOatcMKBi6Nj5nIT0b8Cu90scMJYyT6CVEkff4KyDXbPxpG0VHbGu5LDzr7NwabJwziqX
 Vw$] 
DTSTAMP:20260416T213144Z
END:VEVENT
END:VCALENDAR